BEGIN:VCALENDAR
VERSION:2.0
PRODID:icalendar-ruby
CALSCALE:GREGORIAN
BEGIN:VEVENT
DTSTAMP:20260421T195536Z
UID:0cb52b48-64fd-4696-a342-45a88c56f30f
DTSTART;VALUE=DATE:20190825
DESCRIPTION:Property ID# 458755\, Locatoin: On site\, Time: 12:00PM
SUMMARY:Auction for 
END:VEVENT
END:VCALENDAR
