BEGIN:VCALENDAR
VERSION:2.0
PRODID:icalendar-ruby
CALSCALE:GREGORIAN
BEGIN:VEVENT
DTSTAMP:20260421T145637Z
UID:db341579-1a77-4e78-889c-3ff9669250d5
DTSTART;VALUE=DATE:20190915
DESCRIPTION:Property ID# 460537\, Locatoin: On Site\, Time: 3:00PM
SUMMARY:Auction for 
END:VEVENT
END:VCALENDAR
