BEGIN:VCALENDAR
VERSION:2.0
PRODID:icalendar-ruby
CALSCALE:GREGORIAN
BEGIN:VEVENT
DTSTAMP:20260422T112206Z
UID:99f7f4c7-80ae-4387-9e78-7f6bb1cc3a1d
DTSTART;VALUE=DATE:20191013
DESCRIPTION:Property ID# 462063\, Locatoin: On site\, Time: 4:00PM
SUMMARY:Auction for 
END:VEVENT
END:VCALENDAR
