BEGIN:VCALENDAR
VERSION:2.0
PRODID:icalendar-ruby
CALSCALE:GREGORIAN
BEGIN:VEVENT
DTSTAMP:20260421T172822Z
UID:a8ddd540-54d7-4a09-9f6d-358281af4b6c
DTSTART;VALUE=DATE:20191124
DESCRIPTION:Property ID# 465729\, Locatoin: On site \, Time: 12:00PM
SUMMARY:Auction for 
END:VEVENT
END:VCALENDAR
