BEGIN:VCALENDAR
VERSION:2.0
PRODID:icalendar-ruby
CALSCALE:GREGORIAN
BEGIN:VEVENT
DTSTAMP:20260421T173517Z
UID:0b24ec9b-951c-48ca-b2a9-0e4df40822a5
DTSTART;VALUE=DATE:20200209
DESCRIPTION:Property ID# 470510\, Locatoin: On site \, Time: 5:00PM
SUMMARY:Auction for 
END:VEVENT
END:VCALENDAR
