BEGIN:VCALENDAR
VERSION:2.0
PRODID:icalendar-ruby
CALSCALE:GREGORIAN
BEGIN:VEVENT
DTSTAMP:20260421T094707Z
UID:c346d514-6c7a-473f-8343-05de7f318be7
DTSTART;VALUE=DATE:20200409
DESCRIPTION:Property ID# 476386\, Locatoin: 471 Papanui Road\, Papanui\, Un
 less Sold Prior\, Time: 10:00AM
SUMMARY:Auction for 
END:VEVENT
END:VCALENDAR
