BEGIN:VCALENDAR
VERSION:2.0
PRODID:icalendar-ruby
CALSCALE:GREGORIAN
BEGIN:VEVENT
DTSTAMP:20260421T195721Z
UID:c0f1f5f8-c359-4539-ab05-559f1379a634
DTSTART;VALUE=DATE:20200531
DESCRIPTION:Property ID# 477675\, Locatoin: On Site\, Time: 5:00PM
SUMMARY:Auction for 
END:VEVENT
END:VCALENDAR
