BEGIN:VCALENDAR
VERSION:2.0
PRODID:icalendar-ruby
CALSCALE:GREGORIAN
BEGIN:VEVENT
DTSTAMP:20260422T112201Z
UID:10ebaf72-fec3-4256-b820-10af88799c83
DTSTART;VALUE=DATE:20200530
DESCRIPTION:Property ID# 477677\, Locatoin: On Site\, Time: 5:00PM
SUMMARY:Auction for 
END:VEVENT
END:VCALENDAR
