BEGIN:VCALENDAR
VERSION:2.0
PRODID:icalendar-ruby
CALSCALE:GREGORIAN
BEGIN:VEVENT
DTSTAMP:20260421T145106Z
UID:52ef776d-ad52-45d1-94f7-cbb5bf7e4a36
DTSTART;VALUE=DATE:20200628
DESCRIPTION:Property ID# 482013\, Locatoin: On Site\, 41 Swann Beach Road\,
  Stanmore Bay\, Time: 11:00AM
SUMMARY:Auction for 
END:VEVENT
END:VCALENDAR
