BEGIN:VCALENDAR
VERSION:2.0
PRODID:icalendar-ruby
CALSCALE:GREGORIAN
BEGIN:VEVENT
DTSTAMP:20260424T082404Z
UID:17c59638-1d1d-4f35-a2d3-6ed26b0230b6
DTSTART;VALUE=DATE:20200719
DESCRIPTION:Property ID# 483317\, Locatoin: On site\, Time: 2:00PM
SUMMARY:Auction for 
END:VEVENT
END:VCALENDAR
