BEGIN:VCALENDAR
VERSION:2.0
PRODID:icalendar-ruby
CALSCALE:GREGORIAN
BEGIN:VEVENT
DTSTAMP:20260419T140615Z
UID:5516b9ab-9d09-48a4-a697-7e7e31816c1e
DTSTART;VALUE=DATE:20200712
DESCRIPTION:Property ID# 483710\, Time: 1:00PM
SUMMARY:Auction for 
END:VEVENT
END:VCALENDAR
