BEGIN:VCALENDAR
VERSION:2.0
PRODID:icalendar-ruby
CALSCALE:GREGORIAN
BEGIN:VEVENT
DTSTAMP:20260420T032308Z
UID:2bf862c4-14dc-4fc2-a0aa-ea918b37f906
DTSTART;VALUE=DATE:20200816
DESCRIPTION:Property ID# 485542\, Time: 1:00PM
SUMMARY:Auction for 
END:VEVENT
END:VCALENDAR
