BEGIN:VCALENDAR
VERSION:2.0
PRODID:icalendar-ruby
CALSCALE:GREGORIAN
BEGIN:VEVENT
DTSTAMP:20260420T121914Z
UID:db8effb9-7be8-4e46-8514-de1dd7bf97a0
DTSTART;VALUE=DATE:20210321
DESCRIPTION:Property ID# 502985\, Locatoin: Onsite\, Time: 12:30PM
SUMMARY:Auction for 
END:VEVENT
END:VCALENDAR
