BEGIN:VCALENDAR
VERSION:2.0
PRODID:icalendar-ruby
CALSCALE:GREGORIAN
BEGIN:VEVENT
DTSTAMP:20260423T094504Z
UID:eeaaf5cf-23c5-443a-841c-77951a98829c
DTSTART;VALUE=DATE:20210503
DESCRIPTION:Property ID# 507220\, Time: 2:00PM
SUMMARY:Auction for 
END:VEVENT
END:VCALENDAR
