BEGIN:VCALENDAR
VERSION:2.0
PRODID:icalendar-ruby
CALSCALE:GREGORIAN
BEGIN:VEVENT
DTSTAMP:20260420T002822Z
UID:58535b4b-d5fd-4217-b9fc-5c94dad83e1b
DTSTART;VALUE=DATE:20210530
DESCRIPTION:Property ID# 509736\, Time: 10:30AM
SUMMARY:Auction for 
END:VEVENT
END:VCALENDAR
