BEGIN:VCALENDAR
VERSION:2.0
PRODID:icalendar-ruby
CALSCALE:GREGORIAN
BEGIN:VEVENT
DTSTAMP:20260419T220413Z
UID:e96daafb-d565-4355-8563-c06024d43cdd
DTSTART;VALUE=DATE:20210725
DESCRIPTION:Property ID# 513559\, Time: 10:00AM
SUMMARY:Auction for 
END:VEVENT
END:VCALENDAR
