BEGIN:VCALENDAR
VERSION:2.0
PRODID:icalendar-ruby
CALSCALE:GREGORIAN
BEGIN:VEVENT
DTSTAMP:20260419T215354Z
UID:f5237626-5f3c-4d1a-868b-33a4ea5ef1cc
DTSTART;VALUE=DATE:20211003
DESCRIPTION:Property ID# 516178\, Time: 5:00PM
SUMMARY:Auction for 
END:VEVENT
END:VCALENDAR
