BEGIN:VCALENDAR
VERSION:2.0
PRODID:icalendar-ruby
CALSCALE:GREGORIAN
BEGIN:VEVENT
DTSTAMP:20260419T221045Z
UID:7f13299d-3f48-465f-b182-c612d163dd1a
DTSTART;VALUE=DATE:20211017
DESCRIPTION:Property ID# 518160\, Time: 5:00PM
SUMMARY:Auction for 
END:VEVENT
END:VCALENDAR
