BEGIN:VCALENDAR
VERSION:2.0
PRODID:icalendar-ruby
CALSCALE:GREGORIAN
BEGIN:VEVENT
DTSTAMP:20260421T110315Z
UID:bb3a2cc9-5d93-4907-b196-cca390984a46
DTSTART;VALUE=DATE:20211028
DESCRIPTION:Property ID# 518854\, Locatoin: Auction to be conducted Online\
 , Time: 1:00PM
SUMMARY:Auction for 
END:VEVENT
END:VCALENDAR
