BEGIN:VCALENDAR
VERSION:2.0
PRODID:icalendar-ruby
CALSCALE:GREGORIAN
BEGIN:VEVENT
DTSTAMP:20260419T220616Z
UID:c4240254-a4dd-43eb-bdab-63110192d4c5
DTSTART;VALUE=DATE:20211104
DESCRIPTION:Property ID# 519363\, Time: 6:30PM
SUMMARY:Auction for 
END:VEVENT
END:VCALENDAR
