BEGIN:VCALENDAR
VERSION:2.0
PRODID:icalendar-ruby
CALSCALE:GREGORIAN
BEGIN:VEVENT
DTSTAMP:20260419T215201Z
UID:82b9396e-1766-4f30-8cc3-525625f09bc8
DTSTART;VALUE=DATE:20211114
DESCRIPTION:Property ID# 520952\, Time: 1:00PM
SUMMARY:Auction for 
END:VEVENT
END:VCALENDAR
