BEGIN:VCALENDAR
VERSION:2.0
PRODID:icalendar-ruby
CALSCALE:GREGORIAN
BEGIN:VEVENT
DTSTAMP:20260421T150334Z
UID:03eab0dc-b2f8-481b-8cf3-6fc05aee0651
DTSTART;VALUE=DATE:20211125
DESCRIPTION:Property ID# 521153\, Locatoin: Livestreamed Online\, Time: 1:0
 0PM
SUMMARY:Auction for 
END:VEVENT
END:VCALENDAR
