BEGIN:VCALENDAR
VERSION:2.0
PRODID:icalendar-ruby
CALSCALE:GREGORIAN
BEGIN:VEVENT
DTSTAMP:20260421T145541Z
UID:6e8be092-b290-4e4c-a828-ba38dddb77b7
DTSTART;VALUE=DATE:20211216
DESCRIPTION:Property ID# 522603\, Locatoin: Livestreamed\, Takapuna\, Time:
  1:00PM
SUMMARY:Auction for 
END:VEVENT
END:VCALENDAR
