BEGIN:VCALENDAR
VERSION:2.0
PRODID:icalendar-ruby
CALSCALE:GREGORIAN
BEGIN:VEVENT
DTSTAMP:20260419T220805Z
UID:49326e7c-0338-4cab-8973-ba54a39205d3
DTSTART;VALUE=DATE:20220203
DESCRIPTION:Property ID# 526226\, Time: 1:00PM
SUMMARY:Auction for 
END:VEVENT
END:VCALENDAR
