BEGIN:VCALENDAR
VERSION:2.0
PRODID:icalendar-ruby
CALSCALE:GREGORIAN
BEGIN:VEVENT
DTSTAMP:20260424T104922Z
UID:19b06d53-a477-4c8a-a32f-f4f42cb137ec
DTSTART;VALUE=DATE:20220226
DESCRIPTION:Property ID# 526949\, Time: 3:00PM
SUMMARY:Auction for 
END:VEVENT
END:VCALENDAR
