BEGIN:VCALENDAR
VERSION:2.0
PRODID:icalendar-ruby
CALSCALE:GREGORIAN
BEGIN:VEVENT
DTSTAMP:20260421T115700Z
UID:6edc0474-5f64-4889-87db-74fa9ee28d1a
DTSTART;VALUE=DATE:20220514
DESCRIPTION:Property ID# 534729\, Locatoin: On Site\, Time: 12:00PM
SUMMARY:Auction for 
END:VEVENT
END:VCALENDAR
