BEGIN:VCALENDAR
VERSION:2.0
PRODID:icalendar-ruby
CALSCALE:GREGORIAN
BEGIN:VEVENT
DTSTAMP:20260422T095622Z
UID:d53e37c3-fc5c-4d18-b495-f659fa7c3242
DTSTART;VALUE=DATE:20231204
DESCRIPTION:Property ID# 566422\, Time: 4:00PM
SUMMARY:Auction for 
END:VEVENT
END:VCALENDAR
