BEGIN:VCALENDAR
VERSION:2.0
PRODID:icalendar-ruby
CALSCALE:GREGORIAN
BEGIN:VEVENT
DTSTAMP:20260421T104735Z
UID:5f263c45-9846-450c-9904-4184f59ee038
DTSTART;VALUE=DATE:20231221
DESCRIPTION:Property ID# 567350\, Locatoin: The Promenade Takapuna\, Time: 
 10:00AM
SUMMARY:Auction for 
END:VEVENT
END:VCALENDAR
