BEGIN:VCALENDAR
VERSION:2.0
PRODID:icalendar-ruby
CALSCALE:GREGORIAN
BEGIN:VEVENT
DTSTAMP:20260422T194343Z
UID:7f030be3-d11a-4b58-a685-cfcf1127282c
DTSTART;VALUE=DATE:20240925
DESCRIPTION:Property ID# 580267\, Time: 5:00PM
SUMMARY:Auction for 
END:VEVENT
END:VCALENDAR
