BEGIN:VCALENDAR
VERSION:2.0
PRODID:icalendar-ruby
CALSCALE:GREGORIAN
BEGIN:VEVENT
DTSTAMP:20260423T093729Z
UID:66043161-3826-4e9e-be33-9a6dfcf9d958
DTSTART;VALUE=DATE:20250304
DESCRIPTION:Property ID# 587757\, Time: 4:00PM
SUMMARY:Auction for 
END:VEVENT
END:VCALENDAR
