BEGIN:VCALENDAR
VERSION:2.0
PRODID:icalendar-ruby
CALSCALE:GREGORIAN
BEGIN:VEVENT
DTSTAMP:20260420T121425Z
UID:ab9f9c13-1ac7-45af-a195-9e3186c7c596
DTSTART;VALUE=DATE:20250226
DESCRIPTION:Property ID# 587788\, Locatoin: 2/153 Karori Road\, Wellington\
 , Time: 2:00PM
SUMMARY:Auction for 
END:VEVENT
END:VCALENDAR
