BEGIN:VCALENDAR
VERSION:2.0
PRODID:icalendar-ruby
CALSCALE:GREGORIAN
BEGIN:VEVENT
DTSTAMP:20260420T120926Z
UID:f691dc42-8455-4545-ad0f-0abee16a5b8b
DTSTART;VALUE=DATE:20250524
DESCRIPTION:Property ID# 592016\, Time: 2:00PM
SUMMARY:Auction for 
END:VEVENT
END:VCALENDAR
