BEGIN:VCALENDAR
VERSION:2.0
PRODID:icalendar-ruby
CALSCALE:GREGORIAN
BEGIN:VEVENT
DTSTAMP:20260419T120541Z
UID:65015e7a-d9e3-4a50-8c76-cf4c5f0b1691
DTSTART;VALUE=DATE:20250515
DESCRIPTION:Property ID# 592342\, Locatoin: In Room\, (Harcourts Office)\, 
 128 Hurstmere Rd\, Takapuna\, Time: 12:00PM
SUMMARY:Auction for 
END:VEVENT
END:VCALENDAR
