BEGIN:VCALENDAR
VERSION:2.0
PRODID:icalendar-ruby
CALSCALE:GREGORIAN
BEGIN:VEVENT
DTSTAMP:20260421T110205Z
UID:eecbc8ec-4986-464a-8632-e26bfddba62f
DTSTART;VALUE=DATE:20250703
DESCRIPTION:Property ID# 592502\, Locatoin: Ray White Ohope - 19 Pohutukawa
  Ave\, Ohope (unless sold prior)\, Time: 12:00PM
SUMMARY:Auction for 
END:VEVENT
END:VCALENDAR
