BEGIN:VCALENDAR
VERSION:2.0
PRODID:icalendar-ruby
CALSCALE:GREGORIAN
BEGIN:VEVENT
DTSTAMP:20260420T083802Z
UID:58804201-2620-467c-b7c4-f247f2d0c799
DTSTART;VALUE=DATE:20260423
DESCRIPTION:Property ID# 606278\, Locatoin: East Realty\, 293 Cameron Road\
 , Tauranga (Unless Sold Prior)\, Time: 1:00PM
SUMMARY:Auction for 15 Ashgrove Place
END:VEVENT
END:VCALENDAR
