BEGIN:VCALENDAR
VERSION:2.0
PRODID:icalendar-ruby
CALSCALE:GREGORIAN
BEGIN:VEVENT
DTSTAMP:20260421T110911Z
UID:feb601d4-2ecd-4e4e-a5fe-3f8ba8b00aec
DTSTART;VALUE=DATE:20260430
DESCRIPTION:Property ID# 606388\, Locatoin: East Realty\, 293 Cameron Road\
 , Tauranga (Unless Sold Prior)\, Time: 1:00PM
SUMMARY:Auction for 32 Vale Street
END:VEVENT
END:VCALENDAR
